BEGIN:VCALENDAR
PRODID:-//eluceo/ical//2.0/EN
VERSION:2.0
CALSCALE:GREGORIAN
BEGIN:VEVENT
UID:asa-handball/rencontre/2695
DTSTAMP:20260420T132608Z
SUMMARY:-12M2 : HBC  AUTHION 2
DESCRIPTION:Salle : LES ESQUISSEAUX\nRésultat : 17 - 21
URL:https://handball-avrille.com/rencontre/2695
DTSTART;TZID=Europe/Paris:20250913T113000
DTEND;TZID=Europe/Paris:20250913T130000
LOCATION:LES ESQUISSEAUX
GEO:47.441180;-0.236860
X-APPLE-STRUCTURED-LOCATION;VALUE=URI;X-ADDRESS=LES ESQUISSEAUX;X-APPLE-RAD
 IUS=49;X-TITLE=:geo:47.441180,-0.236860
CATEGORIES:rencontre
END:VEVENT
BEGIN:VEVENT
UID:asa-handball/rencontre/2698
DTSTAMP:20260420T132608Z
SUMMARY:-12M2 : O. BAUGEOIS
DESCRIPTION:Salle : SALLE TABARLY\nRésultat : 13 - 23
URL:https://handball-avrille.com/rencontre/2698
DTSTART;TZID=Europe/Paris:20250920T140000
DTEND;TZID=Europe/Paris:20250920T153000
LOCATION:SALLE TABARLY
GEO:47.500830;-0.595560
X-APPLE-STRUCTURED-LOCATION;VALUE=URI;X-ADDRESS=SALLE TABARLY;X-APPLE-RADIU
 S=49;X-TITLE=:geo:47.500830,-0.595560
CATEGORIES:rencontre
END:VEVENT
BEGIN:VEVENT
UID:asa-handball/rencontre/2706
DTSTAMP:20260420T132608Z
SUMMARY:-12M2 : BEAUCOUZE HB 2
DESCRIPTION:Salle : SPORT'CO\nRésultat : 11 - 25
URL:https://handball-avrille.com/rencontre/2706
DTSTART;TZID=Europe/Paris:20250927T124500
DTEND;TZID=Europe/Paris:20250927T141500
LOCATION:SPORT'CO
GEO:47.476800;-0.643240
X-APPLE-STRUCTURED-LOCATION;VALUE=URI;X-ADDRESS=SPORT'CO;X-APPLE-RADIUS=49;
 X-TITLE=:geo:47.476800,-0.643240
CATEGORIES:rencontre
END:VEVENT
BEGIN:VEVENT
UID:asa-handball/rencontre/2804
DTSTAMP:20260420T132608Z
SUMMARY:-12M2 : HBC  AUTHION 2
DESCRIPTION:Salle : SALLE TABARLY\nRésultat : 14 - 12
URL:https://handball-avrille.com/rencontre/2804
DTSTART;TZID=Europe/Paris:20251005T154500
DTEND;TZID=Europe/Paris:20251005T171500
LOCATION:SALLE TABARLY
GEO:47.500830;-0.595560
X-APPLE-STRUCTURED-LOCATION;VALUE=URI;X-ADDRESS=SALLE TABARLY;X-APPLE-RADIU
 S=49;X-TITLE=:geo:47.500830,-0.595560
CATEGORIES:rencontre
END:VEVENT
BEGIN:VEVENT
UID:asa-handball/rencontre/2806
DTSTAMP:20260420T132608Z
SUMMARY:-12M2 : O. BAUGEOIS
DESCRIPTION:Salle : CHATEAUCOIN\nRésultat : 10 - 0
URL:https://handball-avrille.com/rencontre/2806
DTSTART;TZID=Europe/Paris:20251011T130000
DTEND;TZID=Europe/Paris:20251011T143000
LOCATION:CHATEAUCOIN
GEO:47.547680;-0.107710
X-APPLE-STRUCTURED-LOCATION;VALUE=URI;X-ADDRESS=CHATEAUCOIN;X-APPLE-RADIUS=
 49;X-TITLE=:geo:47.547680,-0.107710
CATEGORIES:rencontre
END:VEVENT
BEGIN:VEVENT
UID:asa-handball/rencontre/2939
DTSTAMP:20260420T132608Z
SUMMARY:-12M2 : O.BAUGEOIS
DESCRIPTION:Salle : CHATEAUCOIN\nRésultat : 34 - 15
URL:https://handball-avrille.com/rencontre/2939
DTSTART;TZID=Europe/Paris:20251018T150000
DTEND;TZID=Europe/Paris:20251018T163000
LOCATION:CHATEAUCOIN
GEO:47.547680;-0.107710
X-APPLE-STRUCTURED-LOCATION;VALUE=URI;X-ADDRESS=CHATEAUCOIN;X-APPLE-RADIUS=
 49;X-TITLE=:geo:47.547680,-0.107710
CATEGORIES:rencontre
END:VEVENT
BEGIN:VEVENT
UID:asa-handball/rencontre/2809
DTSTAMP:20260420T132608Z
SUMMARY:-12M2 : SEGRE HB 2
DESCRIPTION:Salle : SALLE TABARLY\nRésultat : 27 - 20
URL:https://handball-avrille.com/rencontre/2809
DTSTART;TZID=Europe/Paris:20251108T160000
DTEND;TZID=Europe/Paris:20251108T173000
LOCATION:SALLE TABARLY
GEO:47.500830;-0.595560
X-APPLE-STRUCTURED-LOCATION;VALUE=URI;X-ADDRESS=SALLE TABARLY;X-APPLE-RADIU
 S=49;X-TITLE=:geo:47.500830,-0.595560
CATEGORIES:rencontre
END:VEVENT
BEGIN:VEVENT
UID:asa-handball/rencontre/2810
DTSTAMP:20260420T132608Z
SUMMARY:-12M2 : ANGERS HBC 2
DESCRIPTION:Salle : SALLE TABARLY\nRésultat : 7 - 30
URL:https://handball-avrille.com/rencontre/2810
DTSTART;TZID=Europe/Paris:20251115T143000
DTEND;TZID=Europe/Paris:20251115T160000
LOCATION:SALLE TABARLY
GEO:47.500830;-0.595560
X-APPLE-STRUCTURED-LOCATION;VALUE=URI;X-ADDRESS=SALLE TABARLY;X-APPLE-RADIU
 S=49;X-TITLE=:geo:47.500830,-0.595560
CATEGORIES:rencontre
END:VEVENT
BEGIN:VEVENT
UID:asa-handball/rencontre/2812
DTSTAMP:20260420T132608Z
SUMMARY:-12M2 : ES AUBANCE 1
DESCRIPTION:Salle : MARIN A\nRésultat : 10 - 0
URL:https://handball-avrille.com/rencontre/2812
DTSTART;TZID=Europe/Paris:20251122T143000
DTEND;TZID=Europe/Paris:20251122T160000
LOCATION:MARIN A
GEO:47.353110;-0.461250
X-APPLE-STRUCTURED-LOCATION;VALUE=URI;X-ADDRESS=MARIN A;X-APPLE-RADIUS=49;X
 -TITLE=:geo:47.353110,-0.461250
CATEGORIES:rencontre
END:VEVENT
BEGIN:VEVENT
UID:asa-handball/rencontre/2963
DTSTAMP:20260420T132608Z
SUMMARY:-12M2 : OREE D'ANJOU
DESCRIPTION:Salle : COMPLEXE DU BEL AIR\nRésultat : 0 - 10
URL:https://handball-avrille.com/rencontre/2963
DTSTART;TZID=Europe/Paris:20251129T150000
DTEND;TZID=Europe/Paris:20251129T163000
LOCATION:COMPLEXE DU BEL AIR
GEO:47.281670;-1.190140
X-APPLE-STRUCTURED-LOCATION;VALUE=URI;X-ADDRESS=COMPLEXE DU BEL AIR;X-APPLE
 -RADIUS=49;X-TITLE=:geo:47.281670,-1.190140
CATEGORIES:rencontre
END:VEVENT
BEGIN:VEVENT
UID:asa-handball/rencontre/2964
DTSTAMP:20260420T132608Z
SUMMARY:-12M2 : HBC CHEMILLE
DESCRIPTION:Salle : COMPLEXE DU BEL AIR\nRésultat : 7 - 8
URL:https://handball-avrille.com/rencontre/2964
DTSTART;TZID=Europe/Paris:20251129T160000
DTEND;TZID=Europe/Paris:20251129T173000
LOCATION:COMPLEXE DU BEL AIR
GEO:47.281670;-1.190140
X-APPLE-STRUCTURED-LOCATION;VALUE=URI;X-ADDRESS=COMPLEXE DU BEL AIR;X-APPLE
 -RADIUS=49;X-TITLE=:geo:47.281670,-1.190140
CATEGORIES:rencontre
END:VEVENT
BEGIN:VEVENT
UID:asa-handball/rencontre/2813
DTSTAMP:20260420T132608Z
SUMMARY:-12M2 : HBC  VIHIERS
DESCRIPTION:Salle : SALLE TABARLY\nRésultat : 19 - 18
URL:https://handball-avrille.com/rencontre/2813
DTSTART;TZID=Europe/Paris:20251207T113000
DTEND;TZID=Europe/Paris:20251207T130000
LOCATION:SALLE TABARLY
GEO:47.500830;-0.595560
X-APPLE-STRUCTURED-LOCATION;VALUE=URI;X-ADDRESS=SALLE TABARLY;X-APPLE-RADIU
 S=49;X-TITLE=:geo:47.500830,-0.595560
CATEGORIES:rencontre
END:VEVENT
BEGIN:VEVENT
UID:asa-handball/rencontre/2816
DTSTAMP:20260420T132608Z
SUMMARY:-12M2 : CS LE LION D'ANGERS 2
DESCRIPTION:Salle : LA MARE AUX COQS\nRésultat : 41 - 13
URL:https://handball-avrille.com/rencontre/2816
DTSTART;TZID=Europe/Paris:20251213T140000
DTEND;TZID=Europe/Paris:20251213T153000
LOCATION:LA MARE AUX COQS
GEO:47.627590;-0.720020
X-APPLE-STRUCTURED-LOCATION;VALUE=URI;X-ADDRESS=LA MARE AUX COQS;X-APPLE-RA
 DIUS=49;X-TITLE=:geo:47.627590,-0.720020
CATEGORIES:rencontre
END:VEVENT
BEGIN:VEVENT
UID:asa-handball/rencontre/3031
DTSTAMP:20260420T132608Z
SUMMARY:-12M2 : O. BAUGEOIS
DESCRIPTION:Salle : CHATEAUCOIN\nRésultat : 26 - 15
URL:https://handball-avrille.com/rencontre/3031
DTSTART;TZID=Europe/Paris:20260117T153000
DTEND;TZID=Europe/Paris:20260117T170000
LOCATION:CHATEAUCOIN
GEO:47.547680;-0.107710
X-APPLE-STRUCTURED-LOCATION;VALUE=URI;X-ADDRESS=CHATEAUCOIN;X-APPLE-RADIUS=
 49;X-TITLE=:geo:47.547680,-0.107710
CATEGORIES:rencontre
END:VEVENT
BEGIN:VEVENT
UID:asa-handball/rencontre/3036
DTSTAMP:20260420T132608Z
SUMMARY:-12M2 : HBC  AUTHION 2
DESCRIPTION:Salle : SALLE TABARLY\nRésultat : 26 - 15
URL:https://handball-avrille.com/rencontre/3036
DTSTART;TZID=Europe/Paris:20260124T150000
DTEND;TZID=Europe/Paris:20260124T163000
LOCATION:SALLE TABARLY
GEO:47.500830;-0.595560
X-APPLE-STRUCTURED-LOCATION;VALUE=URI;X-ADDRESS=SALLE TABARLY;X-APPLE-RADIU
 S=49;X-TITLE=:geo:47.500830,-0.595560
CATEGORIES:rencontre
END:VEVENT
BEGIN:VEVENT
UID:asa-handball/rencontre/2984
DTSTAMP:20260420T132608Z
SUMMARY:-12M2 : HBC LOIRE LAYON
DESCRIPTION:Salle : SALLE TABARLY\nRésultat : 25 - 19
URL:https://handball-avrille.com/rencontre/2984
DTSTART;TZID=Europe/Paris:20260207T170000
DTEND;TZID=Europe/Paris:20260207T183000
LOCATION:SALLE TABARLY
GEO:47.500830;-0.595560
X-APPLE-STRUCTURED-LOCATION;VALUE=URI;X-ADDRESS=SALLE TABARLY;X-APPLE-RADIU
 S=49;X-TITLE=:geo:47.500830,-0.595560
CATEGORIES:rencontre
END:VEVENT
BEGIN:VEVENT
UID:asa-handball/rencontre/3153
DTSTAMP:20260420T132608Z
SUMMARY:-12M2 : SEGRE HB 1
DESCRIPTION:Salle : SALLE BERTRAND ROINE\nRésultat : 43 - 7
URL:https://handball-avrille.com/rencontre/3153
DTSTART;TZID=Europe/Paris:20260307T110000
DTEND;TZID=Europe/Paris:20260307T123000
LOCATION:SALLE BERTRAND ROINE
GEO:47.690510;-0.875040
X-APPLE-STRUCTURED-LOCATION;VALUE=URI;X-ADDRESS=SALLE BERTRAND ROINE;X-APPL
 E-RADIUS=49;X-TITLE=:geo:47.690510,-0.875040
CATEGORIES:rencontre
END:VEVENT
BEGIN:VEVENT
UID:asa-handball/rencontre/3060
DTSTAMP:20260420T132608Z
SUMMARY:-12M2 : HBC  VIHIERS
DESCRIPTION:Salle : SALLE TABARLY\nRésultat : 21 - 18
URL:https://handball-avrille.com/rencontre/3060
DTSTART;TZID=Europe/Paris:20260315T153000
DTEND;TZID=Europe/Paris:20260315T170000
LOCATION:SALLE TABARLY
GEO:47.500830;-0.595560
X-APPLE-STRUCTURED-LOCATION;VALUE=URI;X-ADDRESS=SALLE TABARLY;X-APPLE-RADIU
 S=49;X-TITLE=:geo:47.500830,-0.595560
CATEGORIES:rencontre
END:VEVENT
BEGIN:VEVENT
UID:asa-handball/rencontre/3073
DTSTAMP:20260420T132608Z
SUMMARY:-12M2 : ES AUBANCE 2
DESCRIPTION:Salle : MARIN B\nRésultat : 5 - 33
URL:https://handball-avrille.com/rencontre/3073
DTSTART;TZID=Europe/Paris:20260328T120000
DTEND;TZID=Europe/Paris:20260328T133000
LOCATION:MARIN B
GEO:47.353510;-0.445780
X-APPLE-STRUCTURED-LOCATION;VALUE=URI;X-ADDRESS=MARIN B;X-APPLE-RADIUS=49;X
 -TITLE=:geo:47.353510,-0.445780
CATEGORIES:rencontre
END:VEVENT
BEGIN:VEVENT
UID:asa-handball/rencontre/3077
DTSTAMP:20260420T132608Z
SUMMARY:-12M2 : OREE D'ANJOU
DESCRIPTION:Salle : SALLE TABARLY
URL:https://handball-avrille.com/rencontre/3077
DTSTART;TZID=Europe/Paris:20260502T144500
DTEND;TZID=Europe/Paris:20260502T161500
LOCATION:SALLE TABARLY
GEO:47.500830;-0.595560
X-APPLE-STRUCTURED-LOCATION;VALUE=URI;X-ADDRESS=SALLE TABARLY;X-APPLE-RADIU
 S=49;X-TITLE=:geo:47.500830,-0.595560
CATEGORIES:rencontre
END:VEVENT
BEGIN:VEVENT
UID:asa-handball/rencontre/3081
DTSTAMP:20260420T132608Z
SUMMARY:-12M2 : HBC LOIRE LAYON
DESCRIPTION:Salle : CALONNA
URL:https://handball-avrille.com/rencontre/3081
DTSTART;TZID=Europe/Paris:20260509T140000
DTEND;TZID=Europe/Paris:20260509T153000
LOCATION:CALONNA
CATEGORIES:rencontre
END:VEVENT
BEGIN:VEVENT
UID:asa-handball/rencontre/3086
DTSTAMP:20260420T132608Z
SUMMARY:-12M2 : SEGRE HB 2
DESCRIPTION:Salle : SALLE TABARLY
URL:https://handball-avrille.com/rencontre/3086
DTSTART;TZID=Europe/Paris:20260531T140000
DTEND;TZID=Europe/Paris:20260531T153000
LOCATION:SALLE TABARLY
CATEGORIES:rencontre
END:VEVENT
END:VCALENDAR
